BEGIN:VCALENDAR
VERSION:2.0
PRODID:-//TNT Booking - ECPv6.15.16//NONSGML v1.0//EN
CALSCALE:GREGORIAN
METHOD:PUBLISH
X-WR-CALNAME:TNT Booking
X-ORIGINAL-URL:https://tnt-booking.de
X-WR-CALDESC:Veranstaltungen für TNT Booking
REFRESH-INTERVAL;VALUE=DURATION:PT1H
X-Robots-Tag:noindex
X-PUBLISHED-TTL:PT1H
BEGIN:VTIMEZONE
TZID:UTC
BEGIN:STANDARD
TZOFFSETFROM:+0000
TZOFFSETTO:+0000
TZNAME:UTC
DTSTART:20230101T000000
END:STANDARD
END:VTIMEZONE
BEGIN:VEVENT
DTSTART;TZID=UTC:20240307T200000
DTEND;TZID=UTC:20240307T220000
DTSTAMP:20260421T104829
CREATED:20231121T134511Z
LAST-MODIFIED:20240306T142111Z
UID:4619-1709841600-1709848800@tnt-booking.de
SUMMARY:TANQUORAY - ALBUM RELEASE KONZERT
DESCRIPTION:Einlass: 19.00 Uhr  |  Beginn: 20.00 Uhr \n\nTICKETS\nVorverkauf: 17 €  | Abendkasse: 20 € \nFanTickets gibt es im TNT-Büro (Herrnstraße 6-8 in 92224 Amberg)  oder \nonline:  FanTickets bei  Band-Store.com  oder via ticketdirect bei   okticket.de   und  NT-Ticket.de \n\n&#8211; THE ORANGE SOUL SENSATION &#8211;\n\nTANQUORAY\n\nAlbum Release Konzert\nTour 2024\n2023 war das bisher erfolgreichste Jahr für die 3 orangen Soulbrothers – und das wollen sie 2024 natürlich toppen. Pünktlich zur Wintertournee erscheint nach über 3 Jahren Warten das neue Album „SOULICANA“. Der Nachfolger des vielbeachteten Debütalbums „analogue x orange“ punktet mit intelligenter Songauswahl\, überzeugenden Eigenkompositionen\, aufregenden Interpretationen und ganz viel orangem Feeling. Zwischen authentischem Blues\, feinstem Souljazz und funky 80s Stories ist sogar Platz für eine Deutschsprachige Popnummer die durchaus Dancefloor tauglich ist. \nLive sind die 3 sowieso eine Klasse für sich. Funky Rhythmen\, zweistimmiger Satzgesang und orange Stimmung sind das Markenzeichen der 3 Soulbrothers. \nMayerl/Deiml (Piano/Schlagzeug) spielen seit 1989 in verschiedensten Bands zusammen und harmonieren auf der Bühne blind miteinander. Mit Sebastian Hofbauer haben die zwei Originalmitglieder letztes Jahr einen kongenialen Partner gefunden\, ein Sänger von Format\, der sich optimal einfügt und gleichzeitig neue Akzente setzt. Zusätzlich bringt Dusty auch seine Talente am Bass\, Kontrabass\, Schlagzeug und beim Beatboxen ein. Begleitet von Piano und Schlagzeug treffen zwei Stimmen mit jeweils außergewöhnlichem Ausdruck und imposanten Tonumfang aufeinander. Egal ob TANQUORAY speziell ausgewähltes Songmaterial interpretiert oder Eigenes präsentiert\, es wird auf höchstem Niveau\, mit Leib und Seele performed. \nIm neuen Programm nehmen die Eigenkompositionen wesentlich mehr Platz ein als bisher. Dazu finden sich Songs von Soullegenden wie Solomon Burke und Wilson Pickett neben aktuelleren Stücken von Chris Stapleton oder den Black Pumas auf der Setlist. Funky Tracks von Prince werden neben Material von unbekannteren Songwritern wie Al Wilson performed. \nDabei fühlen sich Dusty\, Michon und Toby im eleganten Jazzclub oder der alternativen Kleinkunstbühne genauso zuhause wie auf der großen Open-Air-Stage. Sogar für private Events oder Living-Room-Shows sind die orangen Soulbrüder zu haben! \nZur Jahreswende 23-24 haben die Musiker ihr neues Album eingespielt und erfolgreich über eine Crowdfunding Plattform vorfinanziert. Released wird “Soulicana“ am 08.03.24 via Peppertone Records und ist ab sofort im Pre-Order als Vinyl\, CD oder Download erhältlich\, zu bestellen auf www.band-store.com. „Soulicana“ beweist\, dass TANQUORAY derzeit eine der wichtigsten Stimmen des „Blue-Eyed Soul“ in Deutschland ist.
URL:https://tnt-booking.de/event/tanquoray-07-03-2024/
LOCATION:Capitol\, Bayreuther Str. 4\, Sulzbach-Rosenberg\, 92237
CATEGORIES:Live Konzert,Soul,Tanquoray
ATTACH;FMTTYPE=image/jpeg:https://tnt-booking.de/wp-content/uploads/2023/04/TANQUORAY_Pressefoto-3_2023_HP-VA_960x500.jpg
ORGANIZER;CN="TNT Productions":MAILTO:mail@tnt-productions.de
END:VEVENT
END:VCALENDAR