BEGIN:VCALENDAR
VERSION:2.0
PRODID:-//TNT Booking - ECPv6.15.16//NONSGML v1.0//EN
CALSCALE:GREGORIAN
METHOD:PUBLISH
X-WR-CALNAME:TNT Booking
X-ORIGINAL-URL:https://tnt-booking.de
X-WR-CALDESC:Veranstaltungen für TNT Booking
REFRESH-INTERVAL;VALUE=DURATION:PT1H
X-Robots-Tag:noindex
X-PUBLISHED-TTL:PT1H
BEGIN:VTIMEZONE
TZID:UTC
BEGIN:STANDARD
TZOFFSETFROM:+0000
TZOFFSETTO:+0000
TZNAME:UTC
DTSTART:20250101T000000
END:STANDARD
END:VTIMEZONE
BEGIN:VEVENT
DTSTART;TZID=UTC:20260228T203000
DTEND;TZID=UTC:20260228T203000
DTSTAMP:20260421T061728
CREATED:20260211T173507Z
LAST-MODIFIED:20260211T173507Z
UID:5554-1772310600-1772310600@tnt-booking.de
SUMMARY:DUST & RUST
DESCRIPTION:Jetzt Reservieren ! \nBeginn: 20.30 Uhr\, Einlass: 19:00 Uhr \n\n\nDas Duo DUST & RUST besteht aus dem Sänger Sebastian „Dusty“ Hofbauer und dem Pianisten Toby Mayerl. Gemeinsam unternehmen sie einen Streifzug durch die Musikgeschichte\, viele Balladen und Lovesongs werden zu neuem Leben erweckt\, Rock’n’Roll und Rhythm & Blues-Oldies aus den 50ger Jahren werden in abgespeckter Duo-Version geboten. Bisschen Blues\, bisschen Pop und alles was den beiden so gefällt findet den Weg ins Programm.\nSebastian „Dusty“ Hofbauer ist seit Jahren mit dem Rockabilly-Trio The Outsiders unterwegs\, seit 2023 ist er die Leadstimme von Tanquoray. Beim Duo DUST & RUST wird er auch mal zum Bass\, zum Kontrabass oder zur Gitarre greifen\, Pianist Toby Mayerl ist seit vielen Jahren aus der Süddeutschen Livemusikszene nicht wegzudenken\, Bands wie Grand Slam Funk\, Mad Company\, Tanquoray und viele mehr sind Deutschlandweit bekannt.\nAm Samstag\, den 28.02.26 sind die beiden in Treuchtlingen im Old Bembel Pub zu Gast. Jetzt noch schnell reservieren unter Tel.  09142 975353
URL:https://tnt-booking.de/event/dust-rust-2/
LOCATION:Old Bembel Pub\, Hauptstrasse 2\, Treuchtlingen\, 91757\, Germany
CATEGORIES:Dust & Rust
ATTACH;FMTTYPE=image/jpeg:https://tnt-booking.de/wp-content/uploads/2025/02/20250126-DSC_1091-scaled.jpg
END:VEVENT
END:VCALENDAR