BEGIN:VCALENDAR
VERSION:2.0
PRODID:-//TNT Booking - ECPv6.15.16//NONSGML v1.0//EN
CALSCALE:GREGORIAN
METHOD:PUBLISH
X-ORIGINAL-URL:https://tnt-booking.de
X-WR-CALDESC:Veranstaltungen fÃ¼r TNT Booking
REFRESH-INTERVAL;VALUE=DURATION:PT1H
X-Robots-Tag:noindex
X-PUBLISHED-TTL:PT1H
BEGIN:VTIMEZONE
TZID:UTC
BEGIN:STANDARD
TZOFFSETFROM:+0000
TZOFFSETTO:+0000
TZNAME:UTC
DTSTART:20230101T000000
END:STANDARD
END:VTIMEZONE
BEGIN:VEVENT
DTSTART;TZID=UTC:20240704T193000
DTEND;TZID=UTC:20240704T223000
DTSTAMP:20260426T033528
CREATED:20240531T141906Z
LAST-MODIFIED:20240531T141906Z
UID:4956-1720121400-1720132200@tnt-booking.de
SUMMARY:HARRY & THOMAS
DESCRIPTION:Einlass: 17:00 Uhr \nBeginn: 19:30 Uhr \n\nTICKETS \nDer Eintritt ist frei. \n\n  \nHARRY & THOMAS\nUnplugged Rock am Abend\n\nHarry Zawrel + Thomas Donhauser \nEin Monument der Livemusik. \nEin Duo das keinen Namen braucht\, auÃŸer Trommelwirbel: We proudly present Harry + Thomas. Jeder kennt den Virtuosen an und mit seinen Saiten Harry Zawrel alias Dirty Harry\, ein Unikum der Musikerszene. Der Zweite im und am Bunde\, Liebhaber der Bluna Schorle\, ebenso ein Urgestein Thomas Donhauser. Â Zusammen werden sie Unplugged Rock\, Soul & Blues zu ihrem allerbesten geben.
URL:https://tnt-booking.de/event/harry-thomas-04-07-2024/
LOCATION:Hotel Haus am Berg\, Oberasberg 2\, Rinchnachâ€‹\, 94269\, Germany
CATEGORIES:Harry + Thomas,Live Konzert
ATTACH;FMTTYPE=image/jpeg:https://tnt-booking.de/wp-content/uploads/2023/07/HarryZawrelThomasDonhauser_VA-HP_960x500.jpg
ORGANIZER;CN="Hotel Haus am Berg":MAILTO:info@hotel-am-berg.de
END:VEVENT
END:VCALENDAR