BEGIN:VCALENDAR
VERSION:2.0
PRODID:-//TNT Booking - ECPv6.15.16//NONSGML v1.0//EN
CALSCALE:GREGORIAN
METHOD:PUBLISH
X-ORIGINAL-URL:https://tnt-booking.de
X-WR-CALDESC:Veranstaltungen für TNT Booking
REFRESH-INTERVAL;VALUE=DURATION:PT1H
X-Robots-Tag:noindex
X-PUBLISHED-TTL:PT1H
BEGIN:VTIMEZONE
TZID:UTC
BEGIN:STANDARD
TZOFFSETFROM:+0000
TZOFFSETTO:+0000
TZNAME:UTC
DTSTART:20230101T000000
END:STANDARD
END:VTIMEZONE
BEGIN:VEVENT
DTSTART;TZID=UTC:20240725T183000
DTEND;TZID=UTC:20240725T210000
DTSTAMP:20260424T135636
CREATED:20240114T103425Z
LAST-MODIFIED:20240114T103425Z
UID:4713-1721932200-1721941200@tnt-booking.de
SUMMARY:BURST
DESCRIPTION:Einlass: 17:00 Uhr \nBeginn: 18:30 Uhr \n\nTICKETS \nVVK: 15 € \nTickets gibt es im  Atelier Teufelsbäck (Batteriegasse 1\, 92224 Amberg) und online auf der Teufelsbäck Website. \n\nBURST\nFeuer und Leidenschaft\nAuch ohne Drums schaffen es drei Amberger Vollblutmusiker namens “Burst” ihre Zuhörer in den Bann zu ziehen. Wer das sein soll\, fragen Sie sich? Nun\, wir werden es Ihnen verraten. \nCurtis Fink singt und begleitet seine Mitstreiter mti allerlei Perkussionsinstrumente. Werner “Leif” Wismeth stimmt fröhlich mit ein und begleitet am Piano. Auch Michael “Dandy” Dandorfer werden Sie hören\, während er wie immer meisterhaft seine Gitarre bespielt. \nFeuer und Flamme! \nFunk\, Jazz\, Gospel\, Rock & Soul auf ihre eigene Art durch Improvisation zu verzieren und vor allem ihre leidenschaftliche Bühnenpräsenz\, das sind nur wenige ihrer Stärken. \nSongs von John Butler\, Jack Johnson\, Maceo Parker oder Ed Sheeran ohne Schlagzeug zu interpretieren\, darauf haben sie sich spezialisiert – und es grooved. \nAlte Soulklassiker wie `heard it through the grapevine‘ (Marvin Gaye)\, `sitting on the dock of the bay‘ (Otis Redding) sowie bewegende Jazzsongs von Van Morrison (Moondance) gehören genauso zu ihrem Repertoire wie Prince`s `I could never take the place of your man`. \nVergessen sie die Originale und freuen sie sich auf eine durchaus tanzbare Performance des CCR Klassikers `Proud Mary`\, fetzige Gospels von Mahilia Jackson bis hin zu Britpop von Oasis oder Rock von den Foo Fighters. \nZu Hause: Burst! \nLive sorgt das Trio Burst für ein emotionales und unvergessliches musikalisches Erlebnis. \nSeit Januar 2022 ist ihr neues Album „SEVEN“ erhältlich. Hier haben die drei Musiker einen Querschnitt ihres Liveprogramms veröffentlicht. Eingespielt wurde die CD innerhalb der letzten sieben Jahre\, daher auch der Titel. \nWer den Burst Sound nun auch zu Hause genießen will\, kann die CD hier bestellen: Band Store. \nIm Biergarten: Durst! \nGenießen Sie fantastische Musik und lassen Sie es sich schmecken! Das Team im Atelier Teufelsbäck bietet köstliche\, frisch zubereitete Speisen und bayrische Spezialitäten für Ihr leibliches Wohl. \nWorauf warten Sie noch? Sichern Sie sich Ihren Eintritt zu einem unvergesslichen Abend in unserem gemütlichen Biergarten!
URL:https://tnt-booking.de/event/burst-25-07-24/
LOCATION:Atelier Teufelsbäck\, Batteriegasse 1\, Amberg\, 92224\, Deutschland
CATEGORIES:Burst,Live Konzert,Teufelsbäck Live am Donnerstag
ATTACH;FMTTYPE=image/jpeg:https://tnt-booking.de/wp-content/uploads/2020/08/burst-1.jpg
ORGANIZER;CN="Atelier Teufelsb%C3%A4ck":MAILTO:info@atelier-teufelsbaeck.de
END:VEVENT
END:VCALENDAR