BEGIN:VCALENDAR
VERSION:2.0
PRODID:-//TNT Booking - ECPv6.15.16//NONSGML v1.0//EN
CALSCALE:GREGORIAN
METHOD:PUBLISH
X-ORIGINAL-URL:https://tnt-booking.de
X-WR-CALDESC:Veranstaltungen für TNT Booking
REFRESH-INTERVAL;VALUE=DURATION:PT1H
X-Robots-Tag:noindex
X-PUBLISHED-TTL:PT1H
BEGIN:VTIMEZONE
TZID:UTC
BEGIN:STANDARD
TZOFFSETFROM:+0000
TZOFFSETTO:+0000
TZNAME:UTC
DTSTART:20240101T000000
END:STANDARD
END:VTIMEZONE
BEGIN:VEVENT
DTSTART;TZID=UTC:20250606T180000
DTEND;TZID=UTC:20250606T220000
DTSTAMP:20260421T213509
CREATED:20250605T103015Z
LAST-MODIFIED:20250605T103015Z
UID:5509-1749232800-1749247200@tnt-booking.de
SUMMARY:TANQUORAY
DESCRIPTION:Eintritt frei ! \nBeginn 18:00 Uhr \n\n10 years of orange Soul &#8211; Tour 2025\nEs gibt einen Grund zu feiern bei den orangen Soulbrothers – seit nunmehr 10 Jahren ist TANQUORAY in ganz Deutschland\, Österreich\, der Schweiz und Liechtenstein unterwegs um die Botschaft der „orange Vibes“ zu verbreiten. 2024 war mit über 60 Konzerten das bisher erfolgreichste Jahr für die 3 sympathischen Musiker – und das wollen sie 2025 natürlich toppen. Mit zwei erfolgreichen Alben im Gepäck sind sie das ganze Jahr unterwegs. Natürlich wurden ins Jubiläumsprogramm auch ein paar ältere Crowd-Favorites mit aufgenommen sowie brandneue Tracks. Intelligente Songauswahl\, überzeugende Eigenkompositionen\, aufregende Interpretationen und perfekt aufeinander abgestimmtes Zusammenspiel bilden das Gerüst der Tanquoray-Show. Zwischen authentischem Blues\, feinstem Soul-Jazz und funky 80s Sounds ist immer auch Platz für Überraschungen. \nLive sind die 3 sowieso eine Klasse für sich. Funky Rhythmen\, zweistimmiger Satzgesang und orange Stimmung sind das Markenzeichen der 3 Soulbrothers. \nMayerl/Deiml (Piano/Schlagzeug) spielen seit 1989 in verschiedensten Bands zusammen und harmonieren auf der Bühne blind miteinander. Mit Sebastian Hofbauer haben die zwei Originalmitglieder 2023 einen kongenialen Partner gefunden\, ein Sänger von Format\, der sich optimal einfügt und gleichzeitig neue Akzente setzt. Zusätzlich bringt Dusty auch seine Talente am Bass\, Kontrabass\, Schlagzeug und beim Beatboxen ein. Begleitet von Piano und Schlagzeug treffen zwei Stimmen mit jeweils außergewöhnlichem Ausdruck und imposantem Tonumfang aufeinander. Egal ob TANQUORAY speziell ausgewähltes Songmaterial interpretiert oder Eigenes präsentiert\, es wird auf höchstem Niveau\, mit Leib und Seele performed. \nIm Jubiläums-Programm nehmen die Eigenkompositionen wesentlich mehr Platz ein als bisher. Dazu finden sich Songs von Soullegenden wie Solomon Burke und Wilson Pickett neben aktuelleren Stücken von Chris Stapleton oder den Black Pumas auf der Setlist. Funky Tracks von Prince werden neben Material von unbekannteren Songwritern wie Al Wilson gespielt. \nDabei fühlen sich Dusty\, Michon und Toby im eleganten Jazzclub oder der alternativen Kleinkunstbühne genauso zuhause wie auf der großen Open-Air-Stage oder beim Stadtfest. Sogar für private Events oder Living-Room-Shows sind die orangen Soulbrüder zu haben! \nFazit: TANQUORAY ist derzeit eine der wichtigsten Stimmen des „Blue-Eyed Soul“ in Deutschland und darüber hinaus.
URL:https://tnt-booking.de/event/tanquoray-06-06-2025_brombachsee/
LOCATION:San-Shine-Camp\, Badehalbinsel 1a\, Absberg\, 91720
CATEGORIES:Tanquoray
ATTACH;FMTTYPE=image/jpeg:https://tnt-booking.de/wp-content/uploads/2023/04/TANQUORAY_Pressefoto-3_2023_HP-VA_960x500.jpg
END:VEVENT
END:VCALENDAR