BEGIN:VCALENDAR
VERSION:2.0
PRODID:-//TNT Booking - ECPv6.15.16//NONSGML v1.0//EN
CALSCALE:GREGORIAN
METHOD:PUBLISH
X-ORIGINAL-URL:https://tnt-booking.de
X-WR-CALDESC:Veranstaltungen fÃ¼r TNT Booking
REFRESH-INTERVAL;VALUE=DURATION:PT1H
X-Robots-Tag:noindex
X-PUBLISHED-TTL:PT1H
BEGIN:VTIMEZONE
TZID:UTC
BEGIN:STANDARD
TZOFFSETFROM:+0000
TZOFFSETTO:+0000
TZNAME:UTC
DTSTART:20230101T000000
END:STANDARD
END:VTIMEZONE
BEGIN:VEVENT
DTSTART;TZID=UTC:20241122T200000
DTEND;TZID=UTC:20241122T220000
DTSTAMP:20260422T222806
CREATED:20240816T135231Z
LAST-MODIFIED:20241112T183054Z
UID:5029-1732305600-1732312800@tnt-booking.de
SUMMARY:A VERY SPECIAL CHRISTMAS | Sulzbach-Rosenberg
DESCRIPTION:Einlass: 19:00 UhrÂ  |Â  Beginn: 20:00 Uhr \n\nTICKETS \nVorverkauf: 21\,50 â‚¬Â  | Abendkasse: 27\,00 â‚¬ \nTickets gibt esÂ online im Â Band StoreÂ  und via ticketdirectÂ  Â  okticket.deÂ  Â  Â nt-ticket.deÂ  Â  Â eventim.de \n\nToby Mayerl presents: \nA VERY SPECIAL CHRISTMAS\nLive in concert\nDas einmalige Weihnachtskonzert\, zusammengestellt und arrangiert von den besten Jazz-\, Pop-\, Rock- und Soulmusikern aus der Oberpfalz und Franken. \n\nBekannte und eher selten gehÃ¶rte Amerikanische Christmassongs\, ausgewÃ¤hlte Deutschsprachige Weihnachtslieder und einige InstrumentalstÃ¼cke bilden das musikalische GerÃ¼st dieser einzigartigen Weihnachtsrevue. Seit vielen Jahren plante Toby Mayerl schon seiner Vorliebe fÃ¼r Soul-Christmas in einem abendfÃ¼llenden Programm zu huldigen\, nach einem LiveStream Konzert im Dezember 2020 wurde das Projekt 2021 endlich live umgesetzt. 2022 und 2023 waren alle Shows ausverkauft und sorgten Ã¼berall fÃ¼r groÃŸe Begeisterung. \nUnter der Leitung des bekannten Pianisten Toby Mayerl musizieren einige bekannte GrÃ¶ÃŸen der Nordbayerischen Livemusikszene\, wie z.B. Â die SÃ¤ngerin Diana Laden\, am Gesang und Percussion Michael â€šMichonâ€˜ Deiml\, auÃŸerdem Michael â€šDandyâ€˜ Dandorfer an der Gitarre. Harry Zawrel ist am Bass\, mit Gitarre und Saxophon beehrt uns Markus â€šMacklâ€˜ Strobl. Neu an den Drums ist der Ã¼berregional bekannte Schlagzeuger Wolfram Glaser\, der z.B. bei My New Zoo und vielen mehr fÃ¼r den nÃ¶tigen Backbeat sorgt. Seit 2023 komplettiert der SÃ¤nger Johannes Knoch aus Berlin das Ensemble mit seinem auÃŸergewÃ¶hnlichen Stimmklang. Stark geprÃ¤gt durch seine amerikanischen Wurzeln bringt der gebÃ¼rtige NÃ¼rnberger authentisch-groovige Funk- und Soulinterpretationen mit frischem Drive auf die BÃ¼hne. \nIm Ã¼ber 90-minÃ¼tigen Konzertprogramm treffen Kompositionen von Donny Hathaway und Stephanie Mills auf funky Arrangements von Wilson Pickett oder Dionne Warwick. Unbekannte Christmassongs von den Emotions wechseln sich mit Traditionellem ab\, Chet Atkins schaut vorbei und am Ende tanzen alle den â€žBoogie-Woogie Santa Clausâ€œ. \nBisher sorgte â€žA VERY SPECIAL CHRISTMASâ€œ fÃ¼r echte emotionale Momente\, volle Begeisterung und ausverkaufte SÃ¤le.Â  Zur Adventszeit 2024 ist die Revue wieder in ganz Bayern unterwegs.Â  Tickets gibt es ab sofort im BÃ¼ro von TNT Productions\, online unter www.band-store.com\, www.nt-ticket.de und www.okticket.de\, sowie an den bekannten Vorverkaufsstellen. \nOn tourÂ Â  2024 \nFr.Â Â Â Â Â Â  22.11.24Â Â Â Â Â Â Â Â Â  Sulzbach-Rosenberg | Capitol\nSa.Â Â Â Â Â  23.11.24Â Â Â Â Â Â Â Â Â  Weiden | Die SÃ¼nde\nDo.Â Â Â Â Â  28.11.24Â Â Â Â Â Â Â Â Â  SchÃ¶nsee | BÃ¼rger-Aktiv-Zentrum\nSa.Â Â Â Â Â  30.11.24Â Â Â Â Â Â  Â Â  Amberg | ErlÃ¶serkirche \nBesetzung\nDiana Laden â€“ Gesang\n(Blue Heat\, Die Praekers uvm.) \nMichael â€žMichonâ€œ Deiml â€“ Gesang\, Percussion\, Schlagzeug\n(LosDos Y Companeros\, Tanquoray\, Ramona Fink Gospel Group uvm.) \nJohannes Knoch â€“ Gesang\n(Vocal5\, Space Captain uvm.) \nMichael â€žDandyâ€œ Dandorfer â€“ Gitarre\n(Burst\, Grand Slam Funk\, Acoustic Soulfood\, Boobooâ€™s Soulshack uvm.) \nMarkus â€žMacklâ€œ Strobl â€“ Saxophon\, Gitarre\n(Mackl & Friends\, The Fundamental Soul Thunder\, Leroy Liqueur & the Shiny Diamond Band uvm. ) \nâ€žDirtyâ€œ Harry Zawrel â€“ Bass\n(Dave Stewart\, Jimmy Cliff\, Grand Slam Funk\, Dirty Harry\, The Fantastic Pepperboyz uvm.) \nWolfram Glaser â€“ Schlagzeug\n(My New Zoo\, Carmen meets Gloria\, Grand Slam uvm.) \nToby Mayerl â€žThe cosmic popeâ€œ â€“ Piano\, musical director\n(Tanquoray\, Ramona Fink Gospel Group\, Grand Slam Funk\, Anja Killermann\, Boobooâ€™s Soulshack uvm.) \n\n 
URL:https://tnt-booking.de/event/a-very-special-christmas-22-11-24/
LOCATION:Capitol\, Bayreuther Str. 4\, Sulzbach-Rosenberg\, 92237
CATEGORIES:A Very Special Christmas,Live Konzert,Weihnachten
ATTACH;FMTTYPE=image/jpeg:https://tnt-booking.de/wp-content/uploads/2023/09/AVSC_HP_960x500.jpg
ORGANIZER;CN="TNT Productions":MAILTO:mail@tnt-productions.de
END:VEVENT
BEGIN:VEVENT
DTSTART;TZID=UTC:20241123T200000
DTEND;TZID=UTC:20241123T220000
DTSTAMP:20260422T222806
CREATED:20240816T141221Z
LAST-MODIFIED:20241112T183006Z
UID:5049-1732392000-1732399200@tnt-booking.de
SUMMARY:A VERY SPECIAL CHRISTMAS | Weiden
DESCRIPTION:Einlass: 19:00 UhrÂ  |Â  Beginn: 20:00 Uhr \n\nTICKETS \nVorverkauf: 21\,50 â‚¬Â  | Abendkasse: 27\,00 â‚¬ \nTickets gibt esÂ online im Band Store und bei okticket.de oder NT-Ticket. \n\nToby Mayerl presents: \nA VERY SPECIAL CHRISTMAS\nLive in concert\nDas einmalige Weihnachtskonzert\, zusammengestellt und arrangiert von den besten Jazz-\, Pop-\, Rock- und Soulmusikern aus der Oberpfalz und Franken. \n\nBekannte und eher selten gehÃ¶rte Amerikanische Christmassongs\, ausgewÃ¤hlte Deutschsprachige Weihnachtslieder und einige InstrumentalstÃ¼cke bilden das musikalische GerÃ¼st dieser einzigartigen Weihnachtsrevue. Seit vielen Jahren plante Toby Mayerl schon seiner Vorliebe fÃ¼r Soul-Christmas in einem abendfÃ¼llenden Programm zu huldigen\, nach einem LiveStream Konzert im Dezember 2020 wurde das Projekt 2021 endlich live umgesetzt. 2022 und 2023 waren alle Shows ausverkauft und sorgten Ã¼berall fÃ¼r groÃŸe Begeisterung. \nUnter der Leitung des bekannten Pianisten Toby Mayerl musizieren einige bekannte GrÃ¶ÃŸen der Nordbayerischen Livemusikszene\, wie z.B. Â die SÃ¤ngerin Diana Laden\, am Gesang und Percussion Michael â€šMichonâ€˜ Deiml\, auÃŸerdem Michael â€šDandyâ€˜ Dandorfer an der Gitarre. Harry Zawrel ist am Bass\, mit Gitarre und Saxophon beehrt uns Markus â€šMacklâ€˜ Strobl. Neu an den Drums ist der Ã¼berregional bekannte Schlagzeuger Wolfram Glaser\, der z.B. bei My New Zoo und vielen mehr fÃ¼r den nÃ¶tigen Backbeat sorgt. Seit 2023 komplettiert der SÃ¤nger Johannes Knoch aus Berlin das Ensemble mit seinem auÃŸergewÃ¶hnlichen Stimmklang. Stark geprÃ¤gt durch seine amerikanischen Wurzeln bringt der gebÃ¼rtige NÃ¼rnberger authentisch-groovige Funk- und Soulinterpretationen mit frischem Drive auf die BÃ¼hne. \nIm Ã¼ber 90-minÃ¼tigen Konzertprogramm treffen Kompositionen von Donny Hathaway und Stephanie Mills auf funky Arrangements von Wilson Pickett oder Dionne Warwick. Unbekannte Christmassongs von den Emotions wechseln sich mit Traditionellem ab\, Chet Atkins schaut vorbei und am Ende tanzen alle den â€žBoogie-Woogie Santa Clausâ€œ. \nBisher sorgte â€žA VERY SPECIAL CHRISTMASâ€œ fÃ¼r echte emotionale Momente\, volle Begeisterung und ausverkaufte SÃ¤le.Â  Zur Adventszeit 2024 ist die Revue wieder in ganz Bayern unterwegs.Â  Tickets gibt es ab sofort im BÃ¼ro von TNT Productions\, online unter www.band-store.com\, www.nt-ticket.de und www.okticket.de\, sowie an den bekannten Vorverkaufsstellen. \nOn tourÂ Â  2024 \nFr.Â Â Â Â Â Â  22.11.24Â Â Â Â Â Â Â Â Â  Sulzbach-Rosenberg | Capitol\nSa.Â Â Â Â Â  23.11.24Â Â Â Â Â Â Â Â Â  Weiden | Die SÃ¼nde\nDo.Â Â Â Â Â  28.11.24Â Â Â Â Â Â Â Â Â  SchÃ¶nsee | BÃ¼rger-Aktiv-Zentrum\nSa.Â Â Â Â Â  30.11.24Â Â Â Â Â Â  Â Â  Amberg | ErlÃ¶serkirch \nBesetzung\nDiana Laden â€“ Gesang \n(Blue Heat\, Die Praekers uvm.) \nMichael â€žMichonâ€œ Deiml â€“ Gesang\, Percussion\, Schlagzeug \n(LosDos Y Companeros\, Tanquoray\, Ramona Fink Gospel Group uvm.) \nJohannes Knoch â€“ Gesang \n(Vocal5\, Space Captain uvm.) \nMichael â€žDandyâ€œ Dandorfer â€“ Gitarre \n(Burst\, Grand Slam Funk\, Acoustic Soulfood\, Boobooâ€™s Soulshack uvm.) \nMarkus â€žMacklâ€œ Strobl â€“ Saxophon\, Gitarre \n(Mackl & Friends\, The Fundamental Soul Thunder\, Leroy Liqueur & the Shiny Diamond Band uvm. ) \nâ€žDirtyâ€œ Harry Zawrel â€“ Bass \n(Dave Stewart\, Jimmy Cliff\, Grand Slam Funk\, Dirty Harry\, The Fantastic Pepperboyz uvm.) \nWolfram Glaser â€“ Schlagzeug \n(My New Zoo\, Carmen meets Gloria\, Grand Slam uvm.) \nToby Mayerl â€žThe cosmic popeâ€œ â€“ Piano\, musical director \n(Tanquoray\, Ramona Fink Gospel Group\, Grand Slam Funk\, Anja Killermann\, Boobooâ€™s Soulshack uvm.) \n\n 
URL:https://tnt-booking.de/event/a-very-special-christmas-weiden-23-11-2024/
LOCATION:Die SÃ¼nde Saal\, Schillerstr. 5\, Weiden i.d. Oberpfalz\, Bayern\, 92637\, Deutschland
CATEGORIES:A Very Special Christmas,Live Konzert,Weihnachten
ATTACH;FMTTYPE=image/jpeg:https://tnt-booking.de/wp-content/uploads/2023/09/AVSC_HP_960x500.jpg
ORGANIZER;CN="das s%C3%BCndikat e. V.":MAILTO:info@suendik.at
END:VEVENT
BEGIN:VEVENT
DTSTART;TZID=UTC:20241128T200000
DTEND;TZID=UTC:20241128T220000
DTSTAMP:20260422T222806
CREATED:20240816T140532Z
LAST-MODIFIED:20241112T182010Z
UID:5044-1732824000-1732831200@tnt-booking.de
SUMMARY:A VERY SPECIAL CHRISTMAS | SchÃ¶nsee
DESCRIPTION:Einlass: 19:00 UhrÂ  |Â  Beginn: 20:00 Uhr \n\nTICKETS \nVorverkauf: 21\,50 â‚¬Â  | Abendkasse: 27\,00 â‚¬ \nTickets gibt esÂ online im Band Store und bei okticket.de oder NT-Ticket. \n\nToby Mayerl presents: \nA VERY SPECIAL CHRISTMAS\nLive in concert\nDas einmalige Weihnachtskonzert\, zusammengestellt und arrangiert von den besten Jazz-\, Pop-\, Rock- und Soulmusikern aus der Oberpfalz und Franken. \n\nBekannte und eher selten gehÃ¶rte Amerikanische Christmassongs\, ausgewÃ¤hlte Deutschsprachige Weihnachtslieder und einige InstrumentalstÃ¼cke bilden das musikalische GerÃ¼st dieser einzigartigen Weihnachtsrevue. Seit vielen Jahren plante Toby Mayerl schon seiner Vorliebe fÃ¼r Soul-Christmas in einem abendfÃ¼llenden Programm zu huldigen\, nach einem LiveStream Konzert im Dezember 2020 wurde das Projekt 2021 endlich live umgesetzt. 2022 und 2023 waren alle Shows ausverkauft und sorgten Ã¼berall fÃ¼r groÃŸe Begeisterung. \nUnter der Leitung des bekannten Pianisten Toby Mayerl musizieren einige bekannte GrÃ¶ÃŸen der Nordbayerischen Livemusikszene\, wie z.B. Â die SÃ¤ngerin Diana Laden\, am Gesang und Percussion Michael â€šMichonâ€˜ Deiml\, auÃŸerdem Michael â€šDandyâ€˜ Dandorfer an der Gitarre. Harry Zawrel ist am Bass\, mit Gitarre und Saxophon beehrt uns Markus â€šMacklâ€˜ Strobl. Neu an den Drums ist der Ã¼berregional bekannte Schlagzeuger Wolfram Glaser\, der z.B. bei My New Zoo und vielen mehr fÃ¼r den nÃ¶tigen Backbeat sorgt. Seit 2023 komplettiert der SÃ¤nger Johannes Knoch aus Berlin das Ensemble mit seinem auÃŸergewÃ¶hnlichen Stimmklang. Stark geprÃ¤gt durch seine amerikanischen Wurzeln bringt der gebÃ¼rtige NÃ¼rnberger authentisch-groovige Funk- und Soulinterpretationen mit frischem Drive auf die BÃ¼hne. \nIm Ã¼ber 90-minÃ¼tigen Konzertprogramm treffen Kompositionen von Donny Hathaway und Stephanie Mills auf funky Arrangements von Wilson Pickett oder Dionne Warwick. Unbekannte Christmassongs von den Emotions wechseln sich mit Traditionellem ab\, Chet Atkins schaut vorbei und am Ende tanzen alle den â€žBoogie-Woogie Santa Clausâ€œ. \nBisher sorgte â€žA VERY SPECIAL CHRISTMASâ€œ fÃ¼r echte emotionale Momente\, volle Begeisterung und ausverkaufte SÃ¤le.Â  Zur Adventszeit 2024 ist die Revue wieder in ganz Bayern unterwegs.Â  Tickets gibt es ab sofort im BÃ¼ro von TNT Productions\, online unter www.band-store.com\, www.nt-ticket.de und www.okticket.de\, sowie an den bekannten Vorverkaufsstellen. \nOn tourÂ Â  2024 \nFr.Â Â Â Â Â Â  22.11.24Â Â Â Â Â Â Â Â Â  Sulzbach-Rosenberg | Capitol\nSa.Â Â Â Â Â  23.11.24Â Â Â Â Â Â Â Â Â  Weiden | Die SÃ¼nde\nDo.Â Â Â Â Â  28.11.24Â Â Â Â Â Â Â Â Â  SchÃ¶nsee | BÃ¼rger-Aktiv-Zentrum\nSa.Â Â Â Â Â  30.11.24Â Â Â Â Â Â  Â Â  Amberg | ErlÃ¶serkirch \nBesetzung\nDiana Laden â€“ Gesang \n(Blue Heat\, Die Praekers uvm.) \nMichael â€žMichonâ€œ Deiml â€“ Gesang\, Percussion\, Schlagzeug \n(LosDos Y Companeros\, Tanquoray\, Ramona Fink Gospel Group uvm.) \nJohannes Knoch â€“ Gesang \n(Vocal5\, Space Captain uvm.) \nMichael â€žDandyâ€œ Dandorfer â€“ Gitarre \n(Burst\, Grand Slam Funk\, Acoustic Soulfood\, Boobooâ€™s Soulshack uvm.) \nMarkus â€žMacklâ€œ Strobl â€“ Saxophon\, Gitarre \n(Mackl & Friends\, The Fundamental Soul Thunder\, Leroy Liqueur & the Shiny Diamond Band uvm. ) \nâ€žDirtyâ€œ Harry Zawrel â€“ Bass \n(Dave Stewart\, Jimmy Cliff\, Grand Slam Funk\, Dirty Harry\, The Fantastic Pepperboyz uvm.) \nWolfram Glaser â€“ Schlagzeug \n(My New Zoo\, Carmen meets Gloria\, Grand Slam uvm.) \nToby Mayerl â€žThe cosmic popeâ€œ â€“ Piano\, musical director \n(Tanquoray\, Ramona Fink Gospel Group\, Grand Slam Funk\, Anja Killermann\, Boobooâ€™s Soulshack uvm.) \n\n 
URL:https://tnt-booking.de/event/a-very-special-christmas-schoensee-28-11-24/
LOCATION:BÃ¼rger-Aktiv-Zentrum\, Schulstr. 3\, SchÃ¶nsee\, Bayern\, 92539
CATEGORIES:A Very Special Christmas,Live Konzert,Weihnachten
ATTACH;FMTTYPE=image/jpeg:https://tnt-booking.de/wp-content/uploads/2023/09/AVSC_HP_960x500.jpg
ORGANIZER;CN="TNT Productions":MAILTO:mail@tnt-productions.de
END:VEVENT
BEGIN:VEVENT
DTSTART;TZID=UTC:20241130T200000
DTEND;TZID=UTC:20241130T220000
DTSTAMP:20260422T222806
CREATED:20240816T135926Z
LAST-MODIFIED:20240905T144828Z
UID:5041-1732996800-1733004000@tnt-booking.de
SUMMARY:A VERY SPECIAL CHRISTMAS | Amberg
DESCRIPTION:Einlass: 19:00 UhrÂ  |Â  Beginn: 20:00 Uhr \n\nTICKETS \nVorverkauf: 21\,50 â‚¬Â  | Abendkasse: 27\,00 â‚¬ \nTickets gibt esÂ online im Band Store und bei okticket.de oder NT-Ticket. \n\nToby Mayerl presents: \nA VERY SPECIAL CHRISTMAS\nLive in concert\nDas einmalige Weihnachtskonzert\, zusammengestellt und arrangiert von den besten Jazz-\, Pop-\, Rock- und Soulmusikern aus der Oberpfalz und Franken. \n\nBekannte und eher selten gehÃ¶rte Amerikanische Christmassongs\, ausgewÃ¤hlte Deutschsprachige Weihnachtslieder und einige InstrumentalstÃ¼cke bilden das musikalische GerÃ¼st dieser einzigartigen Weihnachtsrevue. Seit vielen Jahren plante Toby Mayerl schon seiner Vorliebe fÃ¼r Soul-Christmas in einem abendfÃ¼llenden Programm zu huldigen\, nach einem LiveStream Konzert im Dezember 2020 wurde das Projekt 2021 endlich live umgesetzt. 2022 und 2023 waren alle Shows ausverkauft und sorgten Ã¼berall fÃ¼r groÃŸe Begeisterung. \nUnter der Leitung des bekannten Pianisten Toby Mayerl musizieren einige bekannte GrÃ¶ÃŸen der Nordbayerischen Livemusikszene\, wie z.B. Â die SÃ¤ngerin Diana Laden\, am Gesang und Percussion Michael â€šMichonâ€˜ Deiml\, auÃŸerdem Michael â€šDandyâ€˜ Dandorfer an der Gitarre. Harry Zawrel ist am Bass\, mit Gitarre und Saxophon beehrt uns Markus â€šMacklâ€˜ Strobl. Neu an den Drums ist der Ã¼berregional bekannte Schlagzeuger Wolfram Glaser\, der z.B. bei My New Zoo und vielen mehr fÃ¼r den nÃ¶tigen Backbeat sorgt. Seit 2023 komplettiert der SÃ¤nger Johannes Knoch aus Berlin das Ensemble mit seinem auÃŸergewÃ¶hnlichen Stimmklang. Stark geprÃ¤gt durch seine amerikanischen Wurzeln bringt der gebÃ¼rtige NÃ¼rnberger authentisch-groovige Funk- und Soulinterpretationen mit frischem Drive auf die BÃ¼hne. \nIm Ã¼ber 90-minÃ¼tigen Konzertprogramm treffen Kompositionen von Donny Hathaway und Stephanie Mills auf funky Arrangements von Wilson Pickett oder Dionne Warwick. Unbekannte Christmassongs von den Emotions wechseln sich mit Traditionellem ab\, Chet Atkins schaut vorbei und am Ende tanzen alle den â€žBoogie-Woogie Santa Clausâ€œ. \nBisher sorgte â€žA VERY SPECIAL CHRISTMASâ€œ fÃ¼r echte emotionale Momente\, volle Begeisterung und ausverkaufte SÃ¤le.Â  Zur Adventszeit 2024 ist die Revue wieder in ganz Bayern unterwegs.Â  Tickets gibt es ab sofort im BÃ¼ro von TNT Productions\, online unter www.band-store.com\, www.nt-ticket.de und www.okticket.de\, sowie an den bekannten Vorverkaufsstellen. \nOn tourÂ Â  2024 \nFr.Â Â Â Â Â Â  22.11.24Â Â Â Â Â Â Â Â Â  Sulzbach-Rosenberg | Capitol\nSa.Â Â Â Â Â  23.11.24Â Â Â Â Â Â Â Â Â  Weiden | Die SÃ¼nde\nDo.Â Â Â Â Â  28.11.24Â Â Â Â Â Â Â Â Â  SchÃ¶nsee | BÃ¼rger-Aktiv-Zentrum\nSa.Â Â Â Â Â  30.11.24Â Â Â Â Â Â  Â Â  Amberg | ErlÃ¶serkirch \nBesetzung\nDiana Laden â€“ Gesang \n(Blue Heat\, Die Praekers uvm.) \nMichael â€žMichonâ€œ Deiml â€“ Gesang\, Percussion\, Schlagzeug \n(LosDos Y Companeros\, Tanquoray\, Ramona Fink Gospel Group uvm.) \nJohannes Knoch â€“ Gesang \n(Vocal5\, Space Captain uvm.) \nMichael â€žDandyâ€œ Dandorfer â€“ Gitarre \n(Burst\, Grand Slam Funk\, Acoustic Soulfood\, Boobooâ€™s Soulshack uvm.) \nMarkus â€žMacklâ€œ Strobl â€“ Saxophon\, Gitarre \n(Mackl & Friends\, The Fundamental Soul Thunder\, Leroy Liqueur & the Shiny Diamond Band uvm. ) \nâ€žDirtyâ€œ Harry Zawrel â€“ Bass \n(Dave Stewart\, Jimmy Cliff\, Grand Slam Funk\, Dirty Harry\, The Fantastic Pepperboyz uvm.) \nWolfram Glaser â€“ Schlagzeug \n(My New Zoo\, Carmen meets Gloria\, Grand Slam uvm.) \nToby Mayerl â€žThe cosmic popeâ€œ â€“ Piano\, musical director \n(Tanquoray\, Ramona Fink Gospel Group\, Grand Slam Funk\, Anja Killermann\, Boobooâ€™s Soulshack uvm.) \n\n 
URL:https://tnt-booking.de/event/a-very-special-christmas-erloeserkirche-30-11-24/
LOCATION:ErlÃ¶serkirche Amberg\, Dr.-Martin-Luther-Str. 2\, Amberg\, 92224\, Deutschland
CATEGORIES:A Very Special Christmas,Live Konzert,Weihnachten
ATTACH;FMTTYPE=image/jpeg:https://tnt-booking.de/wp-content/uploads/2023/09/AVSC_HP_960x500.jpg
ORGANIZER;CN="TNT Productions":MAILTO:mail@tnt-productions.de
END:VEVENT
END:VCALENDAR