BEGIN:VCALENDAR
VERSION:2.0
PRODID:-//TNT Booking - ECPv6.15.16//NONSGML v1.0//EN
CALSCALE:GREGORIAN
METHOD:PUBLISH
X-ORIGINAL-URL:https://tnt-booking.de
X-WR-CALDESC:Veranstaltungen für TNT Booking
REFRESH-INTERVAL;VALUE=DURATION:PT1H
X-Robots-Tag:noindex
X-PUBLISHED-TTL:PT1H
BEGIN:VTIMEZONE
TZID:UTC
BEGIN:STANDARD
TZOFFSETFROM:+0000
TZOFFSETTO:+0000
TZNAME:UTC
DTSTART:20240101T000000
END:STANDARD
END:VTIMEZONE
BEGIN:VEVENT
DTSTART;TZID=UTC:20250711T210000
DTEND;TZID=UTC:20250711T210000
DTSTAMP:20260426T033910
CREATED:20250627T103648Z
LAST-MODIFIED:20250627T105033Z
UID:5525-1752267600-1752267600@tnt-booking.de
SUMMARY:MAD COMPANY
DESCRIPTION:Eintritt frei ! Bühne Kirchengasse \nBeginn 21:00 Uhr \n\nMad Company \nDer Name ist Programm. Fünf Musikverrückte aus dem Herzen der Oberpfalz haben es sich zur Aufgabe gemacht\, in eigenständigen Interpretationen\, Meilensteine der Rockgeschichte mit intensiver Bühnenpräsenz zu zelebrieren und das Publikum beim gekonnten Tanz auf der musikalischen Rasierklinge zu bezaubern.\nIm Set finden sich Stücke von Manfred Manns Earthband\, Whitesnake\, Deep Purple\, Van Halen\, Queen\, Bon Jovi u.v.m.\nDie 5 Musiker der ostbayrischen und fränkischen Musikszene haben sich in den letzten Jahren überregional in zahlreichen Formationen einen hervorragenden Namen erspielt: An den Vocals Daniel Nees (Jagger Bang)\, an den Vocals und der Gitarre Bastian Kretzschmar (Black Purple\, String)\, an den Keys Toby Mayerl (Grand Slam Funk\, Tanquoray\, Fantastic Pepperboyz)\, am Bass Wolfgang Ernst (Fundamental Soulthunder\, Major Knockout) und zu guter Letzt am Schlagzeug Stefan Bauer (Major Knockout\, Jagger Bang). \n 
URL:https://tnt-booking.de/event/11-07-25_mad-company/
LOCATION:Bürgerfest Schwandorf\, Kirchengasse\, Schwandorf\, Germany
CATEGORIES:Live Konzert,Mad Company
ATTACH;FMTTYPE=image/jpeg:https://tnt-booking.de/wp-content/uploads/2025/01/MadCompany-21-Kopie.jpg
END:VEVENT
BEGIN:VEVENT
DTSTART;TZID=UTC:20250727T170000
DTEND;TZID=UTC:20250727T220000
DTSTAMP:20260426T033910
CREATED:20250627T103042Z
LAST-MODIFIED:20250627T103042Z
UID:5526-1753635600-1753653600@tnt-booking.de
SUMMARY:MAD COMPANY
DESCRIPTION:Seefest Schönsee\, Bühne Ledererveitl-Parkplatz (Nordufer) \nBeginn 17:00 Uhr ! \n\nMad Company \nDer Name ist Programm. Fünf Musikverrückte aus dem Herzen der Oberpfalz haben es sich zur Aufgabe gemacht\, in eigenständigen Interpretationen\, Meilensteine der Rockgeschichte mit intensiver Bühnenpräsenz zu zelebrieren und das Publikum beim gekonnten Tanz auf der musikalischen Rasierklinge zu bezaubern.\nIm Set finden sich Stücke von Manfred Manns Earthband\, Whitesnake\, Deep Purple\, Van Halen\, Queen\, Bon Jovi u.v.m.\nDie 5 Musiker der ostbayrischen und fränkischen Musikszene haben sich in den letzten Jahren überregional in zahlreichen Formationen einen hervorragenden Namen erspielt: An den Vocals Daniel Nees (Jagger Bang)\, an den Vocals und der Gitarre Bastian Kretzschmar (Black Purple\, String)\, an den Keys Toby Mayerl (Grand Slam Funk\, Tanquoray\, Fantastic Pepperboyz)\, am Bass Wolfgang Ernst (Fundamental Soulthunder\, Major Knockout) und zu guter Letzt am Schlagzeug Stefan Bauer (Major Knockout\, Jagger Bang). \n 
URL:https://tnt-booking.de/event/27-07-25_mad-company/
LOCATION:Seefest Schönsee\, Ledererveitl-Parkplatz\, Schönsee\, 92539\, Germany
CATEGORIES:Live Konzert,Mad Company
ATTACH;FMTTYPE=image/jpeg:https://tnt-booking.de/wp-content/uploads/2025/01/MadCompany-21-Kopie.jpg
END:VEVENT
END:VCALENDAR