BEGIN:VCALENDAR
VERSION:2.0
PRODID:-//TNT Booking - ECPv6.15.16//NONSGML v1.0//EN
CALSCALE:GREGORIAN
METHOD:PUBLISH
X-ORIGINAL-URL:https://tnt-booking.de
X-WR-CALDESC:Veranstaltungen für TNT Booking
REFRESH-INTERVAL;VALUE=DURATION:PT1H
X-Robots-Tag:noindex
X-PUBLISHED-TTL:PT1H
BEGIN:VTIMEZONE
TZID:UTC
BEGIN:STANDARD
TZOFFSETFROM:+0000
TZOFFSETTO:+0000
TZNAME:UTC
DTSTART:20250101T000000
END:STANDARD
END:VTIMEZONE
BEGIN:VEVENT
DTSTART;TZID=UTC:20260502T123000
DTEND;TZID=UTC:20260502T153000
DTSTAMP:20260421T175446
CREATED:20260417T154520Z
LAST-MODIFIED:20260419T112404Z
UID:5647-1777725000-1777735800@tnt-booking.de
SUMMARY:Ben Stone
DESCRIPTION:Ben Stone &#8211; Maiblüte 2026\nOne Voice\, One Guitar Magic Vibes on Stage \nStimme\, die berührt und befreit\nAuf der Bühne verschmelzen Rolle\, Herzblut und Ausstrahlung\nin eine ebenso beeindruckende wie natürliche Darbietung\, die\ndem Publikum nicht selten Gänsehaut beschert. Bekannte\nKlänge verpackt Ben Stone in authentische\, kraftvolle\nRhythmen &#8211; seine Gitarre avanciert auf der Bühne zum besten\nFreund\, seinem Pendant\, mit dem es ihm möglich ist\, die tiefe\nVerbundenheit mit Rock\, Blues und Pop auszudrücken\,\nauszuleben und für das Publikum spürbar zu machen. Mit\neiner Stimme\, die berührt und befreit zugleich. Berührt mit\nihrer Intensität und befreit vom Alltagsballast durch kurzweilige\nmusikalische Ästhetik
URL:https://tnt-booking.de/event/ben-stone-amberg/
LOCATION:Landesgartenschaugelände\, Werner-von-Siemens-Straße 31\, Amberg\, Bayern\, 92224
CATEGORIES:acoustic Rock,Ben Stone,Country,Rock- und Bluesklassiker,Singer Songwriter
ATTACH;FMTTYPE=image/jpeg:https://tnt-booking.de/wp-content/uploads/2026/04/BenStone_Foto-Live_cr-ThomasHuber.jpg
ORGANIZER;CN="TNT Productions":MAILTO:mail@tnt-productions.de
END:VEVENT
BEGIN:VEVENT
DTSTART;TZID=UTC:20260502T163000
DTEND;TZID=UTC:20260502T194500
DTSTAMP:20260421T175446
CREATED:20260417T160236Z
LAST-MODIFIED:20260417T160236Z
UID:5649-1777739400-1777751100@tnt-booking.de
SUMMARY:Harry Zawrel & Thomas Donhauser
DESCRIPTION:Harry Zawrel & Thomas Donhauser &#8211; Maiblüte 2026\nEin Monument der Livemusik. \n\nHarry Zawrel & Thomas Donhauser live auf der Maiblüte 2026! \nEin Duo das keinen Namen braucht\, außer Trommelwirbel: We proudly present Harry + Thomas. Jeder kennt den Virtuosen an und mit seinen Saiten Harry Zawrel alias Dirty Harry\, ein Unikum der Musikerszene. Der Zweite im und am Bunde\, Liebhaber der Bluna Schorle\, ebenso ein Urgestein Thomas Donhauser.  Zusammen werden sie Unplugged Rock\, Soul & Blues zu ihrem allerbesten geben.
URL:https://tnt-booking.de/event/harry-zaw-amberg/
LOCATION:Landesgartenschaugelände\, Werner-von-Siemens-Straße 31\, Amberg\, Bayern\, 92224
CATEGORIES:Harry Zawrel,Live Konzert,Soul,Soul & Blues,Thomas Donhauser,Unplugged Rock
ATTACH;FMTTYPE=image/jpeg:https://tnt-booking.de/wp-content/uploads/2026/04/HarryThomas_live_cr-RicoMichael.jpg
ORGANIZER;CN="TNT Productions":MAILTO:mail@tnt-productions.de
END:VEVENT
END:VCALENDAR