BEGIN:VCALENDAR
VERSION:2.0
PRODID:-//TNT Booking - ECPv6.15.16//NONSGML v1.0//EN
CALSCALE:GREGORIAN
METHOD:PUBLISH
X-ORIGINAL-URL:https://tnt-booking.de
X-WR-CALDESC:Veranstaltungen für TNT Booking
REFRESH-INTERVAL;VALUE=DURATION:PT1H
X-Robots-Tag:noindex
X-PUBLISHED-TTL:PT1H
BEGIN:VTIMEZONE
TZID:UTC
BEGIN:STANDARD
TZOFFSETFROM:+0000
TZOFFSETTO:+0000
TZNAME:UTC
DTSTART:20250101T000000
END:STANDARD
END:VTIMEZONE
BEGIN:VEVENT
DTSTART;TZID=UTC:20260501T130000
DTEND;TZID=UTC:20260501T153000
DTSTAMP:20260421T133051
CREATED:20260417T122515Z
LAST-MODIFIED:20260417T122515Z
UID:5625-1777640400-1777649400@tnt-booking.de
SUMMARY:Einfach Amelie
DESCRIPTION:Einfach Amelie &#8211; Maiblüte 2026\nEinfach Amelie balanciert mit einem Lächeln auf den Lippen quer durch den Spagat zwischen albernen Mitsingliedern und ruhigen Songs zum Innehalten und Hinschauen\, so herzzerreißend unterschiedlich wie es das Leben eben manchmal ist\, und freut sich einfach wenn sie dem Publikum dabei etwas schenken kann\, was auch immer das für die Einzelnen dann ist. \nMit ihren Liedern schaffte sie es beim Sorglos Song Slam (Stuttgart) 2020 auf den 2. Platz\, beim Würzburger Singer Songwriter Contest 2023 auf den 1. Platz\, und erhielt im selben Jahr den Kulturförderpreis ihrer Heimatstadt Amberg. Nach Auftritten beim Altstadtfest Amberg und beim Würzburger Stramu-Festival spielte sie 2025 als Opener für Lina Maly im Kunsthaus Wäldchen. \nBandmäßig spielt und singt Amelie nach Cellotta (Würzburg) und Ampera (Köln) mittlerweile in ihrer neuen Heimat Regensburg bei The Lindau Project\, einer Krautrock-Coverband.
URL:https://tnt-booking.de/event/einfach-amelie-amberg/
LOCATION:Landesgartenschaugelände\, Werner-von-Siemens-Straße 31\, Amberg\, Bayern\, 92224
CATEGORIES:Einfach Amelie,Indie-Pop,Live Konzert
ATTACH;FMTTYPE=image/jpeg:https://tnt-booking.de/wp-content/uploads/2026/04/Einfach-Amelie_2023_B.Kruppa-scaled.jpg
ORGANIZER;CN="TNT Productions":MAILTO:mail@tnt-productions.de
END:VEVENT
BEGIN:VEVENT
DTSTART;TZID=UTC:20260501T163000
DTEND;TZID=UTC:20260501T194500
DTSTAMP:20260421T133051
CREATED:20260417T122814Z
LAST-MODIFIED:20260417T122814Z
UID:5644-1777653000-1777664700@tnt-booking.de
SUMMARY:Dr. Jekyll & Mr. Hyde
DESCRIPTION:Dr. Jekyll & Mr. Hyde &#8211; Maiblüte 2026\nThe artists formerly known as Richie Necker & Toby Mayerl \nSeit ihrem sagenumwitterten Comeback im Jahr 2023 geben sich die zwei Oberpfälzer Musiker nun wieder etwas regelmäßiger die Ehre – nach zuvor immerhin 28 Jahren Pause. Im außergewöhnlichen Programm sind Klassiker ebenso vertreten wie Unbekanntes. Material von den Beatles über Elton John bis hin zu eigenen Stücken von Richie Necker bilden das Gerüst des Konzerts\, bei dem sicherlich auch die ein oder andere Überraschung zu erwarten ist.\nDie zwei wohl bekanntesten Musiker der Ostbayerischen Szene muss man eigentlich nicht mehr vorstellen\, durch ihre jahrelange Zusammenarbeit mit Gruppen wie I Dolci Signori\, Grand Slam Funk\, Rock’n’Rolls Royce\, Ramona Fink Gospel Group\, I Cantautori\, Tanquoray und vielen\, vielen mehr haben sich beide Protagonisten einen hervorragenden Ruf erspielt.\nBiergärten\, Liveclubs\, Kleinkunstbühnen sind ihr zuhause\, gerne spielen die beiden auch auf einem privaten Anlass oder einer firmeninternen Feier. \nRichie Necker – vocals\, guitar\nToby Mayerl &#8211; piano
URL:https://tnt-booking.de/event/dr-jekyll-mr-hyde-amberg/
LOCATION:Landesgartenschaugelände\, Werner-von-Siemens-Straße 31\, Amberg\, Bayern\, 92224
CATEGORIES:acoustic Rock,Dr. Jekyll & Mr. Hyde,Maiblüte,R&B,Richie Necker
ATTACH;FMTTYPE=image/jpeg:https://tnt-booking.de/wp-content/uploads/2025/01/dr.jpg
ORGANIZER;CN="TNT Productions":MAILTO:mail@tnt-productions.de
END:VEVENT
END:VCALENDAR